BEGIN:VCALENDAR
VERSION:2.0
PRODID:-//CERAI - ECPv6.3.6//NONSGML v1.0//EN
CALSCALE:GREGORIAN
METHOD:PUBLISH
X-WR-CALNAME:CERAI
X-ORIGINAL-URL:https://cerai.org
X-WR-CALDESC:Eventos para CERAI
REFRESH-INTERVAL;VALUE=DURATION:PT1H
X-Robots-Tag:noindex
X-PUBLISHED-TTL:PT1H
BEGIN:VTIMEZONE
TZID:Europe/Madrid
BEGIN:DAYLIGHT
TZOFFSETFROM:+0100
TZOFFSETTO:+0200
TZNAME:CEST
DTSTART:20230326T010000
END:DAYLIGHT
BEGIN:STANDARD
TZOFFSETFROM:+0200
TZOFFSETTO:+0100
TZNAME:CET
DTSTART:20231029T010000
END:STANDARD
END:VTIMEZONE
BEGIN:VEVENT
DTSTART;TZID=Europe/Madrid:20230526T113000
DTEND;TZID=Europe/Madrid:20231231T170000
DTSTAMP:20260422T020719
CREATED:20230523T084118Z
LAST-MODIFIED:20230523T091703Z
UID:10001959-1685100600-1704042000@cerai.org
SUMMARY:Exposición fotográfica «Del camp als campus»
DESCRIPTION:El viernes 26 de mayo a las 11:30 H se inaugura la exposición fotográfica Del camp al campus\, en el vestíbulo de la Facultad de Geografía e Historia de la Universitat de València. La muestra irá visitando distintas facultades de la universidad. \nEsta muestra es una pequeña reflexión fotográfica\, una mirada al por menor de los proyectos de vida que están confluyendo en los mercados de los campus de la UV. Se trata de una colección de imágenes que quiere subrayar la labor de las personas productoras locales que cada semana ponen sus productos a disposición de la comunidad universitaria. Ante los modelos de despersonalización y masificación del consumo que imponen las grandes superficies comerciales\, esta exposición pretende dar a conocer las caras y el esfuerzo de las personas que cada semana llevan a los mercados universitarios el fruto de sus proyectos sostenibles. \nEstas imágenes nos hablan del compromiso con la tierra\, de la producción de proximidad y la apuesta decidida por la descarbonización.
URL:https://cerai.org/evento/exposicion-fotografica-del-camp-als-campus/
LOCATION:Universitat de València
CATEGORIES:EXPOSICIÓN
ATTACH;FMTTYPE=image/png:https://cerai.org/wordpress/wp-content/uploads/2023/05/EXPO-DEL-CAMP-ALS-CAMPUS-RRSS-01.png
END:VEVENT
BEGIN:VEVENT
DTSTART;TZID=Europe/Madrid:20230526T113000
DTEND;TZID=Europe/Madrid:20231231T170000
DTSTAMP:20260422T020719
CREATED:20230523T084118Z
LAST-MODIFIED:20230523T084118Z
UID:10001961-1685100600-1704042000@cerai.org
SUMMARY:Exposición fotográfica «Del camp als campus»
DESCRIPTION:El viernes 26 de mayo a las 11:30 H se inaugura la exposición fotográfica Del camp al campus\, en el vestíbulo de la Facultad de Geografía e Historia de la Universitat de València. La muestra irá visitando distintas facultades de la universidad. \nEsta muestra es una pequeña reflexión fotográfica\, una mirada al por menor de los proyectos de vida que están confluyendo en los mercados de los campus de la UV. Se trata de una colección de imágenes que quiere subrayar la labor de las personas productoras locales que cada semana ponen sus productos a disposición de la comunidad universitaria. Ante los modelos de despersonalización y masificación del consumo que imponen las grandes superficies comerciales\, esta exposición pretende dar a conocer las caras y el esfuerzo de las personas que cada semana llevan a los mercados universitarios el fruto de sus proyectos sostenibles. \nEstas imágenes nos hablan del compromiso con la tierra\, de la producción de proximidad y la apuesta decidida por la descarbonización.
URL:https://cerai.org/evento/exposicion-fotografica-del-camp-als-campus-2/
LOCATION:Universitat de València
CATEGORIES:EXPOSICIÓN
ATTACH;FMTTYPE=image/png:https://cerai.org/wordpress/wp-content/uploads/2023/05/EXPO-DEL-CAMP-ALS-CAMPUS-RRSS-01.png
END:VEVENT
BEGIN:VEVENT
DTSTART;TZID=Europe/Madrid:20231122T110000
DTEND;TZID=Europe/Madrid:20231122T123000
DTSTAMP:20260422T020719
CREATED:20231113T140626Z
LAST-MODIFIED:20231113T140626Z
UID:10002382-1700650800-1700656200@cerai.org
SUMMARY:Showcooking en el Campus Burjassot-Paterna
DESCRIPTION:El próximo miércoles\, 22 de noviembre\, de 11:00 a 12:30 horas\, desde CERAI ofrecemos un showcooking  con ‘Les Marietes’ para aprender y degustar recetas locales\, agroecológicas y de temporada. La demostración será en el Mercado Sostenible y de Proximidad que estará ubicado en la plaza central del Campus Burjassot-Paterna. \nEsta actividad está dentro del proyecto Objetivo: campus sostenible que cuenta con el apoyo de la Generalitat Valenciana y en colaboración con el Vicerrectorado de Sostenibilidad\, Cooperación y Vida Saludable de la Universitat de València. \nEncuentra aquí toda la información que necesitas. No es necesaria inscripción previa. ¡Súmate! ¡Juntas hacemos de la Universitat de València un espacio sostenible y saludable!
URL:https://cerai.org/evento/showcooking-en-el-campus-burjassot-paterna-duplicate-1-2/
LOCATION:Universitat de València – Campus de Burjassot-Paterna\, Comunitat Valenciana\, España
CATEGORIES:TALLER DE COCINA
ATTACH;FMTTYPE=image/jpeg:https://cerai.org/wordpress/wp-content/uploads/2023/11/Showcooking-final-campus-1-1.jpg
END:VEVENT
END:VCALENDAR