BEGIN:VCALENDAR
VERSION:2.0
PRODID:-//CERAI - ECPv6.3.6//NONSGML v1.0//EN
CALSCALE:GREGORIAN
METHOD:PUBLISH
X-ORIGINAL-URL:https://cerai.org
X-WR-CALDESC:Eventos para CERAI
REFRESH-INTERVAL;VALUE=DURATION:PT1H
X-Robots-Tag:noindex
X-PUBLISHED-TTL:PT1H
BEGIN:VTIMEZONE
TZID:Europe/Madrid
BEGIN:DAYLIGHT
TZOFFSETFROM:+0100
TZOFFSETTO:+0200
TZNAME:CEST
DTSTART:20240331T010000
END:DAYLIGHT
BEGIN:STANDARD
TZOFFSETFROM:+0200
TZOFFSETTO:+0100
TZNAME:CET
DTSTART:20241027T010000
END:STANDARD
END:VTIMEZONE
BEGIN:VEVENT
DTSTART;TZID=Europe/Madrid:20240109T000000
DTEND;TZID=Europe/Madrid:20240113T235959
DTSTAMP:20260421T223505
CREATED:20231218T121017Z
LAST-MODIFIED:20231218T121142Z
UID:10001982-1704758400-1705190399@cerai.org
SUMMARY:Cultivando alternativas en Mauritania en el Mercado de Tapineria (València)
DESCRIPTION:La exposición Cultivando alternativas en Mauritania estará en el Mercado de Tapineria de València entre el 9 y el 13 de enero\, con horario de apertura de 15:00 a 19:00 horas el 9 de enero y de 10:00 a 19:00 del 10 al 13 de enero. \nCon esta exposición\, CERAI y la Association Mauritanienne pour l’Auto-Développement (AMAD) quieren visibilizar a los y las campesinas que alimentan al mundo\, una muestra de que otro mundo es posible y necesario. En colaboración con las comunidades locales del Valle del Río Senegal llevan apostando desde el año 2010 por la transición a un sistema alimentario justo y sostenible\, tan necesario en el momento actual de crisis energética y económica en el que nos encontramos. \nA través de los proyectos de cooperación en Mauritania\, las iniciativas agroecológicas emprendidas están mejorando la nutrición de las familias\, la sostenibilidad de sus bienes naturales\, a la vez que se difunden conocimientos y se refuerzan los lazos de solidaridad y apoyo mutuo entre campesinos. \nEsta exposición forma parte de la campaña El alimento que nos une y cuenta con el apoyo de la Vicepresidencia y Consejería de Igualdad y Políticas Inclusivas de la Generalitat Valenciana.
URL:https://cerai.org/evento/cultivando-alternativas-en-mauritania-tapineria/
LOCATION:Mercado de Tapinería\, C/ de la Tapineria\, 15\, València\, Valencia\, 46001\, España
CATEGORIES:EXPOSICIÓN
ATTACH;FMTTYPE=image/jpeg:https://cerai.org/wordpress/wp-content/uploads/2023/12/photo_2023-12-18_13-07-40.jpg
END:VEVENT
END:VCALENDAR