BEGIN:VCALENDAR
VERSION:2.0
PRODID:-//CERAI - ECPv6.3.6//NONSGML v1.0//EN
CALSCALE:GREGORIAN
METHOD:PUBLISH
X-ORIGINAL-URL:https://cerai.org
X-WR-CALDESC:Eventos para CERAI
REFRESH-INTERVAL;VALUE=DURATION:PT1H
X-Robots-Tag:noindex
X-PUBLISHED-TTL:PT1H
BEGIN:VTIMEZONE
TZID:Europe/Madrid
BEGIN:DAYLIGHT
TZOFFSETFROM:+0100
TZOFFSETTO:+0200
TZNAME:CEST
DTSTART:20240331T010000
END:DAYLIGHT
BEGIN:STANDARD
TZOFFSETFROM:+0200
TZOFFSETTO:+0100
TZNAME:CET
DTSTART:20241027T010000
END:STANDARD
END:VTIMEZONE
BEGIN:VEVENT
DTSTART;TZID=Europe/Madrid:20240404T170000
DTEND;TZID=Europe/Madrid:20240404T193000
DTSTAMP:20260421T174431
CREATED:20240322T103811Z
LAST-MODIFIED:20240322T103811Z
UID:10002385-1712250000-1712259000@cerai.org
SUMMARY:Jornada 'Experiencias innovadoras en educación alimentaria'
DESCRIPTION:Frente a la dificultad de lograr mejoras educativas\, gastronómicas y nutricionales en la mayoría de comedores escolares madrileños\, muchas comunidades se reinventan en la búsqueda de propuestas pedagógicas que mejoren la cultura alimentaria de alumnado\, familias y profesorado. Por todo ello\, CERAI y Garúa organizan la jornada «Intercambio de experiencias innovadoras en educación alimentaria». \nEl evento tendrá lugar el próximo 4 de abril\, a las 17 horas en La Casa Encendida de Madrid. En este se presentarán inspiradores proyectos de mejora de la alimentación en diferentes etapas educativas -primaria\, formación profesional y universidad-\, a través del Aprendizaje Servicio y otras metodologías novedosas. El proyecto Cocinando Futuro\, de CERAI y Garúa\, será uno de ellos. \n \nEl evento finalizará con un picoteo elaborado por El Fogón Verde\, para hacer red y seguir profundizando con las voces ponentes y otros proyectos invitados a fila cero. \nEsta jornada será realizada dentro de la séptima edición de las Jornadas ‘Alimentar el Cambio’ en La Casa Encendida. \n¿Cuándo?\nEl 4 de abril\, a las 17.00 horas\n¿Dónde?\nLa Casa Encendida\n¿Te apuntas?\nSi tienes interés en asistir\, inscríbete aquí.\nCERAI junto a Garúa organizan esta jornada en el marco del proyecto ‘Cocinando futuro’\, financiado por el ayuntamiento de Madrid.
URL:https://cerai.org/evento/jornada-experiencias-innovadoras-en-educacion-alimentaria-2/
LOCATION:La Casa Encendida\, Ronda de Valencia\, 2\, Madrid\, España
CATEGORIES:JORNADAS
ATTACH;FMTTYPE=image/jpeg:https://cerai.org/wordpress/wp-content/uploads/2024/03/alimentacion-escolar-1-scaled.jpeg
END:VEVENT
END:VCALENDAR