BEGIN:VCALENDAR
VERSION:2.0
PRODID:-//CERAI - ECPv6.3.6//NONSGML v1.0//EN
CALSCALE:GREGORIAN
METHOD:PUBLISH
X-WR-CALNAME:CERAI
X-ORIGINAL-URL:https://cerai.org
X-WR-CALDESC:Eventos para CERAI
REFRESH-INTERVAL;VALUE=DURATION:PT1H
X-Robots-Tag:noindex
X-PUBLISHED-TTL:PT1H
BEGIN:VTIMEZONE
TZID:Europe/Madrid
BEGIN:DAYLIGHT
TZOFFSETFROM:+0100
TZOFFSETTO:+0200
TZNAME:CEST
DTSTART:20240331T010000
END:DAYLIGHT
BEGIN:STANDARD
TZOFFSETFROM:+0200
TZOFFSETTO:+0100
TZNAME:CET
DTSTART:20241027T010000
END:STANDARD
END:VTIMEZONE
BEGIN:VEVENT
DTSTART;TZID=Europe/Madrid:20240625T000000
DTEND;TZID=Europe/Madrid:20240716T235959
DTSTAMP:20260421T155146
CREATED:20240530T104808Z
LAST-MODIFIED:20240530T104808Z
UID:10002390-1719273600-1721174399@cerai.org
SUMMARY:Curso 'Huertos escolares y otras herramientas para fomentar la incorporación agraria vinculada a la educación ambiental'
DESCRIPTION:Llega el curso ‘Huertos escolares y otras herramientas para fomentar la incorporación agraria vinculada a la educación ambiental’\, ofertado por el CEFIRE Castellón. Esta formación online se desarrollará del 25 de junio al 16 de julio de 2024. \nLos objetivos principales de este curso dirigido a profesorado\, docentes de formación profesional de la rama agraria\, educación ambiental\, industrias alimentarias\, o comercialización y marketing\, son:\n \n\nExtender el potencial del Huerto escolar como nicho o complemento económico a las actividades agroecológicas.\nFacilitar herramientas didácticas prácticas para el trabajo cooperativo entre los centros educativos y las personas que impulsan proyectos agroecológicos.\nConocer el contexto y perfil de las nuevas incorporaciones agrarias y los retos a los que tienen que hacer frente.\nFacilitar el acompañamiento para la incorporación progresiva al sector agrario\, acercar a los docentes el contexto y las herramientas y metodologías para el impulso y acercamiento a las iniciativas que promueven un sistema alimentario local.\nDifundir herramientas útiles para la incorporación agroecológica.\n\nLa formación consta de de 20 horas (16 horas online de lectura del material y realización de ejercicios\, además de  2h prácticas presenciales voluntarias). \nLos contenidos: \n\nContexto de la incorporación agraria\nPresentación de iniciativas que vinculan la educación ambiental y agricultura como salida laboral\nRecursos útiles para acompañar la orientación laboral en estos sectores\n\nEl aforo de la formación es limitado y es necesaria una inscripción previa para garantizar una óptima organización. \n¿Cuándo?\nDel 25 de junio al 16 de julio. \n¿Dónde?\nOnline. \n¿Te apuntas?\nLa fecha límite para inscribirse es el próximo 16 de junio. Puedes hacerlo aquí. \nCERAI organiza esta jornada en el marco del proyecto ‘Una llavor a l’escola IV’ y ‘Semillas para el cambio’ financiados por la Segona i Conselleria de Serveis Socials\, Igualtat i Habitatge de la GVA.
URL:https://cerai.org/evento/curso-huertos-escolares-y-otras-herramientas-para-fomentar-la-incorporacion-agraria-vinculada-a-la-educacion-ambiental/
LOCATION:quienes-somos
CATEGORIES:FORMACIONES
ATTACH;FMTTYPE=image/png:https://cerai.org/wordpress/wp-content/uploads/2024/05/Cartell-CURS-CEFIRE-CASTELLO.png
END:VEVENT
END:VCALENDAR