BEGIN:VCALENDAR
VERSION:2.0
PRODID:-//CERAI - ECPv6.3.6//NONSGML v1.0//EN
CALSCALE:GREGORIAN
METHOD:PUBLISH
X-WR-CALNAME:CERAI
X-ORIGINAL-URL:https://cerai.org
X-WR-CALDESC:Eventos para CERAI
REFRESH-INTERVAL;VALUE=DURATION:PT1H
X-Robots-Tag:noindex
X-PUBLISHED-TTL:PT1H
BEGIN:VTIMEZONE
TZID:Europe/Madrid
BEGIN:DAYLIGHT
TZOFFSETFROM:+0100
TZOFFSETTO:+0200
TZNAME:CEST
DTSTART:20250330T010000
END:DAYLIGHT
BEGIN:STANDARD
TZOFFSETFROM:+0200
TZOFFSETTO:+0100
TZNAME:CET
DTSTART:20251026T010000
END:STANDARD
END:VTIMEZONE
BEGIN:VEVENT
DTSTART;TZID=Europe/Madrid:20250404T000000
DTEND;TZID=Europe/Madrid:20250421T235959
DTSTAMP:20260420T152243
CREATED:20250225T122424Z
LAST-MODIFIED:20250331T105041Z
UID:10002416-1743724800-1745279999@cerai.org
SUMMARY:Exposición fotográfica 'Uraqi\, Terra' en Puerto de Sagunto
DESCRIPTION:La exposición fotográfica Uraqi\, Terra (en la lengua indígena aymara significa tierra) llega al Casal Jove de Puerto de Sagunto y podrá visitarse del 4 al 21 de abril. Esta colección de imágenes muestra la vida de las familias agricultoras con las que la CERAI trabaja en Bolivia y Cuba. La selección de imágenes de Bolivia\, son obra de la fotógrafa boliviana Sara Aliaga y la selección de las imágenes de Cuba\, son obra del fotógrafo cubano Claudio Peláez. Sus trabajos audiovisuales permiten descubrir a las campesinas y campesinos que están detrás de la producción de alimentos que llegan a las ciudades y\, en ocasiones\, incluso a nuestras mesas al otro lado del mundo. \nLas fotografías exhiben el trabajo realizado en el marco del proyecto Fortalecer capacidades productivas y organizativas de los actores del desarrollo local del municipio San Andrés de Machaca para garantizar el derecho a la alimentación\, la equidad de género y la participación social en el municipio de San Andrés de Machaca\, Departamento de La Paz\, Bolivia y el proyecto Fortalecimiento de las potencialidades locales para el desarrollo socio productivo en Batabanó\, Mayabeque\, Cuba. Ambos proyectos\, financiados por la Generalitat Valenciana\, han conseguido mejorar el desarrollo productivo en estas poblaciones\, y han fomentado la inclusión y valorización de la mujer en el medio rural. \nPresentación y visita guiada\nEl 8 de abril a las 18:30 horas se realizará una presentación de la exposición y visita guiada a cargo de Iñaki Liceaga\, responsable para América del Sur\, Central y Caribe de CERAI; Ana López\, responsable de la campaña El alimento que nos une y Roberto Rovira\, regidor de juventud del Ayuntamiento de Sagunto \nLa exposición cuenta con el apoyo de la Vicepresidencia Primera y Consejería de Servicios Sociales\, Igualdad y Vivienda de la Generalitat Valenciana.
URL:https://cerai.org/evento/exposicion-fotografica-uraqi-terra-en-puerto-de-sagunto/
LOCATION:Casal Jove Port de Sagunt\, Carrer Vent de Marinada\, s/n\, Puerto Sagunto\, Valencia\, 46520\, España
CATEGORIES:EXPOSICIÓN
ATTACH;FMTTYPE=image/png:https://cerai.org/wordpress/wp-content/uploads/2025/02/Uraqi-Redes-Puerto-v2.png
END:VEVENT
BEGIN:VEVENT
DTSTART;TZID=Europe/Madrid:20250410T190000
DTEND;TZID=Europe/Madrid:20250410T210000
DTSTAMP:20260420T152243
CREATED:20250401T121649Z
LAST-MODIFIED:20250401T124808Z
UID:10002422-1744311600-1744318800@cerai.org
SUMMARY:Presentación en València de la Escuela de los Pueblos Josefa Martín Luengo
DESCRIPTION:El jueves\, 10 de abril\, tendrá lugar en València la presentación de la Escuela de los Pueblo Josefa Martín Luengo. Este proyecto está impulsado por el Movimiento Popular Memoria Viva de los Pueblos de la mano de la Revista Soberanía Alimentaria\, la Universidad Rural del Cerrato y el colectivo Biela y Tierra. \nTras la presentación que será desarrollada en el Centre Social Terra\, tendrá lugar un conversatorio entre Edurne Caballero\, presidenta de CERAI y Tomàs de los Santos\, responsable de Soberanía Alimentaria. \nLa Escuela de los Pueblos es un espacio de reflexión y formación que busca comprender las causas sociales\, económicas y políticas que generan desigualdad\, racismo estructural y el abandono de los pueblos\, junto con la pérdida de sus medios de vida tradicionales. A través del análisis colectivo\, pretendemos recuperar y fortalecer pilares ancestrales como la ganadería\, la agricultura o los mercados locales. El enfoque no solo es teórico\, sino que también ofrece formación técnica en agroecología\, fruticultura\, ganadería extensiva\, gestión forestal y oficios tradicionales como la carpintería\, cerámica y herrería\, además de abordar áreas como la salud comunitaria o la comunicación social. \n«Un proyecto del común\, de todas y todos\, del pueblo\, de la tierra\, los bosques\, de la montaña y los valles que mueren en el mar. Una herramienta social contra la indiferencia frente a las injusticias locales y globales\, un camino para dejar un mundo mejor a nuestras generaciones futuras. Un espacio por y para el movimiento social\, para tejer conjuntamente y construir un fuerte movimiento popular. Una escuela para impulsar un modelo de vida digno y equitativo\, donde todas las personas puedan acceder a un espacio propio y a oportunidades para vivir con justicia y bienestar». \nRecientemente\, vio la luz la campaña de financiación colectiva para su creación y cientos de personas ya se han sumado para convertir este sueño en una realidad.
URL:https://cerai.org/evento/presentacion-en-valencia-de-la-escuela-de-los-pueblos-josefa-martin-luengo/
LOCATION:Centre Social Terra\, C/ del Baró de San Petrillo\, 9\, València\, 46020
CATEGORIES:CHARLA
ATTACH;FMTTYPE=image/jpeg:https://cerai.org/wordpress/wp-content/uploads/2025/04/27736b15-f060-4b01-ac25-b56cdd99f600.jpeg
END:VEVENT
END:VCALENDAR