BEGIN:VCALENDAR
VERSION:2.0
PRODID:-//CERAI - ECPv6.3.6//NONSGML v1.0//EN
CALSCALE:GREGORIAN
METHOD:PUBLISH
X-ORIGINAL-URL:https://cerai.org
X-WR-CALDESC:Eventos para CERAI
REFRESH-INTERVAL;VALUE=DURATION:PT1H
X-Robots-Tag:noindex
X-PUBLISHED-TTL:PT1H
BEGIN:VTIMEZONE
TZID:Europe/Madrid
BEGIN:DAYLIGHT
TZOFFSETFROM:+0100
TZOFFSETTO:+0200
TZNAME:CEST
DTSTART:20220327T010000
END:DAYLIGHT
BEGIN:STANDARD
TZOFFSETFROM:+0200
TZOFFSETTO:+0100
TZNAME:CET
DTSTART:20221030T010000
END:STANDARD
END:VTIMEZONE
BEGIN:VEVENT
DTSTART;TZID=Europe/Madrid:20220420T183000
DTEND;TZID=Europe/Madrid:20220420T203000
DTSTAMP:20260424T054718
CREATED:20220413T145839Z
LAST-MODIFIED:20220413T145839Z
UID:10002310-1650479400-1650486600@cerai.org
SUMMARY:¿Cómo alimentar al mundo? El problema del acceso a la tierra en la agricultura campesina y familiar
DESCRIPTION:El 20 de abril a las 18:30 H el Foro de las Luchas por la Tierra y por los Recursos Naturales celebrará el seminario abierto al público «¿Cómo alimentar al mundo? El problema del acceso a la tierra en la agricultura campesina y familiar» que tratará las dificultades de los pequeños productores y pequeñas productoras para acceder a los recursos naturales y cómo eso está provocando el éxodo y el abandono de su actividad. La pequeña producción (agrícola\, ganadera\, pesquera y caza) alimenta al menos a 70% de la población mundial con menos de un tercio de los recursos agrícolas. Sin embargo\, continua la concentración del acceso a la tierra y los recursos naturales en menos manos\, incidiendo así en la seguridad alimentaria global y provocando migraciones. Este proceso está incidiendo directamente la capacidad global de hacer frente a la crisis alimentaria a nivel mundial\, agudizada por importantes crisis como la de la Covid-19\, la guerra de Ucrania y el cambio climático. \nEn la mesa redonda participarán Massa Kone (portavoz de la CGLTE-AO)\, Fanny Métrat (ganadera y activista de la Confederation Paysanne)\, Alberto Broch (presidente de COPROFAM y la vicepresidente de CONTAG) y Mireia Vidal González (secretaria general de CCPV-COAG). \nEl seminario cuenta con la colaboración del Ayuntamiento de València y el Centro Mundial de València de Alimentación Urbana Sostenible (CEMAS)\, institución que albergará el evento en su sede de la capital del Turia. Además\, el evento contará con traducción simultánea castellano – francés y podrá seguirse a distancia en una emisión a través del canal de YouTube de CERAI.
URL:https://cerai.org/evento/como-alimentar-al-mundo-el-problema-del-acceso-a-la-tierra-en-la-agricultura-campesina-y-familiar-2/
LOCATION:Centro Mundial de València de Alimentación Urbana Sostenible (CEMAS)\, Passeig de Remor\, 6\, València
CATEGORIES:CHARLA,SEMINARIO
ATTACH;FMTTYPE=image/png:https://cerai.org/wordpress/wp-content/uploads/2022/04/Foro-Luchas.png
END:VEVENT
BEGIN:VEVENT
DTSTART;TZID=Europe/Madrid:20220420T183000
DTEND;TZID=Europe/Madrid:20220420T203000
DTSTAMP:20260424T054718
CREATED:20220413T145839Z
LAST-MODIFIED:20220428T151228Z
UID:10002309-1650479400-1650486600@cerai.org
SUMMARY:¿Cómo alimentar al mundo? El problema del acceso a la tierra en la agricultura campesina y familiar
DESCRIPTION:El 20 de abril a las 18:30 H el Foro de las Luchas por la Tierra y por los Recursos Naturales celebrará el seminario abierto al público «¿Cómo alimentar al mundo? El problema del acceso a la tierra en la agricultura campesina y familiar» que tratará las dificultades de los pequeños productores y pequeñas productoras para acceder a los recursos naturales y cómo eso está provocando el éxodo y el abandono de su actividad. La pequeña producción (agrícola\, ganadera\, pesquera y caza) alimenta al menos a 70% de la población mundial con menos de un tercio de los recursos agrícolas. Sin embargo\, continua la concentración del acceso a la tierra y los recursos naturales en menos manos\, incidiendo así en la seguridad alimentaria global y provocando migraciones. Este proceso está incidiendo directamente la capacidad global de hacer frente a la crisis alimentaria a nivel mundial\, agudizada por importantes crisis como la de la Covid-19\, la guerra de Ucrania y el cambio climático. \nEn la mesa redonda participarán Massa Kone (portavoz de la CGLTE-AO)\, Fanny Métrat (ganadera y activista de la Confederation Paysanne)\, Alberto Broch (presidente de COPROFAM y la vicepresidente de CONTAG) y Mireia Vidal González (secretaria general de CCPV-COAG). \nEl seminario cuenta con la colaboración del Ayuntamiento de València y el Centro Mundial de València de Alimentación Urbana Sostenible (CEMAS)\, institución que albergará el evento en su sede de la capital del Turia. Además\, el evento contará con traducción simultánea castellano – francés y podrá seguirse a distancia en una emisión a través del canal de YouTube de CERAI.
URL:https://cerai.org/evento/como-alimentar-al-mundo-el-problema-del-acceso-a-la-tierra-en-la-agricultura-campesina-y-familiar/
LOCATION:Centro Mundial de València de Alimentación Urbana Sostenible (CEMAS)\, Passeig de Remor\, 6\, València
CATEGORIES:CHARLA,SEMINARIO
ATTACH;FMTTYPE=image/png:https://cerai.org/wordpress/wp-content/uploads/2022/04/Foro-Luchas.png
END:VEVENT
END:VCALENDAR