BEGIN:VCALENDAR
VERSION:2.0
PRODID:-//CERAI - ECPv6.3.6//NONSGML v1.0//EN
CALSCALE:GREGORIAN
METHOD:PUBLISH
X-ORIGINAL-URL:https://cerai.org
X-WR-CALDESC:Eventos para CERAI
REFRESH-INTERVAL;VALUE=DURATION:PT1H
X-Robots-Tag:noindex
X-PUBLISHED-TTL:PT1H
BEGIN:VTIMEZONE
TZID:Europe/Madrid
BEGIN:DAYLIGHT
TZOFFSETFROM:+0100
TZOFFSETTO:+0200
TZNAME:CEST
DTSTART:20250330T010000
END:DAYLIGHT
BEGIN:STANDARD
TZOFFSETFROM:+0200
TZOFFSETTO:+0100
TZNAME:CET
DTSTART:20251026T010000
END:STANDARD
END:VTIMEZONE
BEGIN:VEVENT
DTSTART;TZID=Europe/Madrid:20250514T110000
DTEND;TZID=Europe/Madrid:20250514T123000
DTSTAMP:20260421T122528
CREATED:20250410T090605Z
LAST-MODIFIED:20251006T092511Z
UID:10002423-1747220400-1747225800@cerai.org
SUMMARY:Webinarios: Cláusulas de proximidad en la compra pública alimentaria: retos y dificultades
DESCRIPTION:Webinarios: Cláusulas de proximidad en la compra pública alimentaria: retos y dificultades\nLos webinarios sobre Cláusulas de proximidad en la compra pública alimentaria: retos y dificultades serán online los días 14 de mayo y 12 de junio de 2025 de 11:00 a 12:30 de la mañana. La persona participante podrá nutrirse de las 4 experiencias reales en la redacción de pliegos de compra pública alimentaria y ahondar en los retos y dificultades que ha supuesto la incorporación del criterio de proximidad. Las juristas Ximena Lazo (Coordinadora Grupo de Investigación Compra Pública Verde de la Universidad de Alcalá) y Nuria Casajuna (especialista en Compra Pública Alimentaria de Servicio Jurídico La Troca) nos acompañarán para resolver los retos ante los que se han encontrado estas 4 experiencias. \nPerfil: Interventores/as\, secretariado y técnicos de ayuntamientos y de otras administraciones públicas\, agentes de desarrollo local y entidades/personas interesadas en el tema. \nInscripción gratuita\nNúmero máximo de alumnado 50 (aforo por orden de inscripción)\nEnlace a la inscripción \nSe entregará al alumnado un certificado de participación. \nContenido general de los webinarios\nWEBINARIO 1: 14 MAYO 2025 de 11:00 a 12:30 \n\nBienvenida. Jorge Molero (RMAe)\nIntroducción al marco legal (20 min) –Ximena Lazo (Coordinadora Grupo de Investigación Compra Pública Verde de la Universidad de Alcalá)\n\nContextualización de la situación actual y vacíos normativos.\nRestricciones de la LCSP y margen de maniobra para las administraciones.\nPróximos cambios normativos y su posible impacto.\n\n\nCasos prácticos: Dificultades en el criterio de proximidad (30 min)\n\nAyuntamiento de Barcelona: Experiencia en el uso de criterios de proximidad en licitaciones (Montse Mateu. Cap Secció Polítiques Alimentàries Urbanes).\nXAMEC: Experiencia con la certificación Ecolocal y su aplicación en contratación pública. Joan Maria Ribas Framis\, Presidente de Xamec\n\n\nAnálisis experto y debate (20 min) – Ximena Lazo (Coordinadora Grupo de Investigación Compra Pública Verde de la Universidad de Alcalá)\n\nPerspectiva jurídica complementaria: qué cláusulas son viables y cómo justificarlas.\nOpciones para promover la proximidad sin vulnerar la legislación.\nPosibilidades de cambio normativo y estrategias para influir en futuras reformas.\n\n\nDebate y conclusiones (10 min) Facilitación\, Jorge Molero (RMAe)\n\nIdentificación de barreras comunes y puntos de consenso.\nPropuestas de solución y herramientas disponibles.\n\n\n\nWEBINARIO 2: 12 JUNIO 2025 de 11:00 a 12:30 \n\nBienvenida y resumen de la jornada anterior– Jorge Molero (RMXAE) y Sarai Fariñas (CERAI) 20 min\n\nPrincipales conclusiones del primer webinario.\nPresentación segundo webinario\n\n\nCasos prácticos: experiencias en compra pública local (30 min)\n\nHospital Germans Trias i Pujol: Dificultades en la implementación de criterios de proximidad en servicios de restauración colectiva (Yolanda Fernández: Cap d’unitat Hoteleria Hospital Universitari Germans Trias i Pujol)\nUniversidad de Valencia: Dificultades para integrar productos locales en contratos públicos (Sergio Belda: Cap d’Iniciatives del Vicerectorat de Sostenibilitat\, Cooperació i Vida Saludable).\n\n\nAnálisis experto (20 min) – Nuria Casajuana (Servicio Jurídico La Troca)\n\nPerspectiva jurídica complementaria: qué cláusulas son viables y cómo justificarlas.\nOpciones para promover la proximidad sin vulnerar la legislación.\nPosibilidades de cambio normativo y estrategias para influir en futuras reformas.\n\n\nDebate y conclusiones finales (30 min). Facilitación Jorge Molero (RMAe)\n\nIntegración de conclusiones de ambos webinarios.\nPropuestas de solución y herramientas disponibles.\nLíneas de trabajo futuro para consolidar criterios de proximidad en la contratación pública.\n\n\n\nOrganiza: \nCERAI en colaboración con la Red de Municipios por la Agroecología. \nFinanciado por:  \nVicepresidència i Conselleria de Serveis Socials\, Igualtat i vivenda de la Generalitat Valenciana y cofinanciado por el Ayuntamiento de València. \nCon la colaboración de:\n     \nXimena Lazo de la Universidad de Alcalá participa como experta en el marco del Proyecto de Investigación «Compra Publica Verde: Una herramienta estratégica Contra el Cambio Climático. Análisis Sectorial: Alimentación\, Edificación\, Movilidad y Despoblación» Referencia: PID2021-122131OB-I00. \n   
URL:https://cerai.org/evento/compra-publica-clausulas/
CATEGORIES:SEMINARIO
ATTACH;FMTTYPE=image/png:https://cerai.org/wordpress/wp-content/uploads/2025/04/Curso-Compra-Publica-25_Cartel-A3_2.png
END:VEVENT
END:VCALENDAR