BEGIN:VCALENDAR
VERSION:2.0
PRODID:-//CERAI - ECPv6.3.6//NONSGML v1.0//EN
CALSCALE:GREGORIAN
METHOD:PUBLISH
X-WR-CALNAME:CERAI
X-ORIGINAL-URL:https://cerai.org
X-WR-CALDESC:Eventos para CERAI
REFRESH-INTERVAL;VALUE=DURATION:PT1H
X-Robots-Tag:noindex
X-PUBLISHED-TTL:PT1H
BEGIN:VTIMEZONE
TZID:Europe/Madrid
BEGIN:DAYLIGHT
TZOFFSETFROM:+0100
TZOFFSETTO:+0200
TZNAME:CEST
DTSTART:20230326T010000
END:DAYLIGHT
BEGIN:STANDARD
TZOFFSETFROM:+0200
TZOFFSETTO:+0100
TZNAME:CET
DTSTART:20231029T010000
END:STANDARD
END:VTIMEZONE
BEGIN:VEVENT
DTSTART;TZID=Europe/Madrid:20230526T113000
DTEND;TZID=Europe/Madrid:20231231T170000
DTSTAMP:20260421T224727
CREATED:20230523T084118Z
LAST-MODIFIED:20230523T091703Z
UID:10001959-1685100600-1704042000@cerai.org
SUMMARY:Exposición fotográfica «Del camp als campus»
DESCRIPTION:El viernes 26 de mayo a las 11:30 H se inaugura la exposición fotográfica Del camp al campus\, en el vestíbulo de la Facultad de Geografía e Historia de la Universitat de València. La muestra irá visitando distintas facultades de la universidad. \nEsta muestra es una pequeña reflexión fotográfica\, una mirada al por menor de los proyectos de vida que están confluyendo en los mercados de los campus de la UV. Se trata de una colección de imágenes que quiere subrayar la labor de las personas productoras locales que cada semana ponen sus productos a disposición de la comunidad universitaria. Ante los modelos de despersonalización y masificación del consumo que imponen las grandes superficies comerciales\, esta exposición pretende dar a conocer las caras y el esfuerzo de las personas que cada semana llevan a los mercados universitarios el fruto de sus proyectos sostenibles. \nEstas imágenes nos hablan del compromiso con la tierra\, de la producción de proximidad y la apuesta decidida por la descarbonización.
URL:https://cerai.org/evento/exposicion-fotografica-del-camp-als-campus/
LOCATION:Universitat de València
CATEGORIES:EXPOSICIÓN
ATTACH;FMTTYPE=image/png:https://cerai.org/wordpress/wp-content/uploads/2023/05/EXPO-DEL-CAMP-ALS-CAMPUS-RRSS-01.png
END:VEVENT
BEGIN:VEVENT
DTSTART;TZID=Europe/Madrid:20230526T113000
DTEND;TZID=Europe/Madrid:20231231T170000
DTSTAMP:20260421T224727
CREATED:20230523T084118Z
LAST-MODIFIED:20230523T084118Z
UID:10001961-1685100600-1704042000@cerai.org
SUMMARY:Exposición fotográfica «Del camp als campus»
DESCRIPTION:El viernes 26 de mayo a las 11:30 H se inaugura la exposición fotográfica Del camp al campus\, en el vestíbulo de la Facultad de Geografía e Historia de la Universitat de València. La muestra irá visitando distintas facultades de la universidad. \nEsta muestra es una pequeña reflexión fotográfica\, una mirada al por menor de los proyectos de vida que están confluyendo en los mercados de los campus de la UV. Se trata de una colección de imágenes que quiere subrayar la labor de las personas productoras locales que cada semana ponen sus productos a disposición de la comunidad universitaria. Ante los modelos de despersonalización y masificación del consumo que imponen las grandes superficies comerciales\, esta exposición pretende dar a conocer las caras y el esfuerzo de las personas que cada semana llevan a los mercados universitarios el fruto de sus proyectos sostenibles. \nEstas imágenes nos hablan del compromiso con la tierra\, de la producción de proximidad y la apuesta decidida por la descarbonización.
URL:https://cerai.org/evento/exposicion-fotografica-del-camp-als-campus-2/
LOCATION:Universitat de València
CATEGORIES:EXPOSICIÓN
ATTACH;FMTTYPE=image/png:https://cerai.org/wordpress/wp-content/uploads/2023/05/EXPO-DEL-CAMP-ALS-CAMPUS-RRSS-01.png
END:VEVENT
BEGIN:VEVENT
DTSTART;TZID=Europe/Madrid:20231130T000000
DTEND;TZID=Europe/Madrid:20231212T235959
DTSTAMP:20260421T224727
CREATED:20231127T173536Z
LAST-MODIFIED:20231130T081845Z
UID:10001974-1701302400-1702425599@cerai.org
SUMMARY:Cuenta atrás para el desierto
DESCRIPTION:¡La exposición interactiva Cuenta atrás para el desierto llega a la ciudad de Alicante! Estará en la entrada de la estación de tren Alacant-Terminal entre el 30 de noviembre y el 12 de diciembre. \nLos países más pobres tienden a estar más expuestos a los impactos del cambio climático y las catástrofes naturales. Al tener menos recursos\, no pueden hacer frente a esos choques climáticos de la misma forma que los países ricos\, lo que está aumentando el número de refugiados climáticos. En África\, el desierto del Sáhara se expande\, lo que comporta más pobreza y más hambre\, que deriva en más conflictos y\, en última instancia\, en más desplazamientos\, también hacia Europa. \nPor otro lado\, España también se está viendo afectada por el cambio climático\, como hemos visto con las sequías o los megaincendios este verano. El 75% del territorio español podría convertirse en un desierto si no actuamos rápido. Si quieres saber más sobre las posibles soluciones para mitigar el cambio climático y la desertificación\, ven a la exposición efímera y descubre\, adentrándote en una khaima (tienda dónde viven los tuaregs o pueblo del desierto del Sahara) por qué España puede convertirse en un desierto y qué podemos hacer para evitarlo. \nEsta exposición forma parte de la campaña El alimento que nos une y cuenta con el apoyo de la Vicepresidencia y Consejería de Igualdad y Políticas Inclusivas de la Generalitat Valenciana y de ADIF. Diseño expositivo realizado por SOVINT. \nEvento apto para todos los públicos.
URL:https://cerai.org/evento/cuenta-atras-para-el-desierto-alicante/
LOCATION:Alacant-Terminal
CATEGORIES:EXPOSICIÓN
ATTACH;FMTTYPE=image/jpeg:https://cerai.org/wordpress/wp-content/uploads/2023/11/photo_2023-11-30_09-17-56.jpg
END:VEVENT
BEGIN:VEVENT
DTSTART;TZID=Europe/Madrid:20231215T000000
DTEND;TZID=Europe/Madrid:20231228T235959
DTSTAMP:20260421T224727
CREATED:20231129T075851Z
LAST-MODIFIED:20231218T121228Z
UID:10001978-1702598400-1703807999@cerai.org
SUMMARY:Cultivando alternativas en Mauritania en la estación Joaquín Sorolla (València)
DESCRIPTION:La exposición Cultivando alternativas en Mauritania aterriza en la ciudad de València. Estará alojada en la estación de tren Joaquín Sorolla entre el 15 y el 28 de diciembre. \nAdemás\, el 15 de diciembre\, a las 12:30 horas\, será el evento de inauguración. Este contará con la presencia de Pablo Santana\, fotógrafo responsable de las obras que conforman la exposición; y Jorge Cavero\, director de la entidad. \nCon esta exposición\, CERAI y la Association Mauritanienne pour l’Auto-Développement (AMAD) quieren visibilizar a los y las campesinas que alimentan al mundo\, una muestra de que otro mundo es posible y necesario. En colaboración con las comunidades locales del Valle del Río Senegal llevan apostando desde el año 2010 por la transición a un sistema alimentario justo y sostenible\, tan necesario en el momento actual de crisis energética y económica en el que nos encontramos. \nA través de los proyectos de cooperación en Mauritania\, las iniciativas agroecológicas emprendidas están mejorando la nutrición de las familias\, la sostenibilidad de sus bienes naturales\, a la vez que se difunden conocimientos y se refuerzan los lazos de solidaridad y apoyo mutuo entre campesinos. \nEsta exposición forma parte de la campaña El alimento que nos une y cuenta con el apoyo de la Vicepresidencia y Consejería de Igualdad y Políticas Inclusivas de la Generalitat Valenciana y de ADIF. \nEvento apto para todos los públicos.
URL:https://cerai.org/evento/cultivando-alternativas-en-mauritania/
LOCATION:Estación Joaquín Sorolla\, C/ de Sant Vicent Màrtir\, 171\, València\, València\, 46007
CATEGORIES:EXPOSICIÓN
ATTACH;FMTTYPE=image/jpeg:https://cerai.org/wordpress/wp-content/uploads/2023/11/photo_2023-11-30_15-35-01.jpg
END:VEVENT
END:VCALENDAR