BEGIN:VCALENDAR
VERSION:2.0
PRODID:-//CERAI - ECPv6.3.6//NONSGML v1.0//EN
CALSCALE:GREGORIAN
METHOD:PUBLISH
X-WR-CALNAME:CERAI
X-ORIGINAL-URL:https://cerai.org
X-WR-CALDESC:Eventos para CERAI
REFRESH-INTERVAL;VALUE=DURATION:PT1H
X-Robots-Tag:noindex
X-PUBLISHED-TTL:PT1H
BEGIN:VTIMEZONE
TZID:Europe/Madrid
BEGIN:DAYLIGHT
TZOFFSETFROM:+0100
TZOFFSETTO:+0200
TZNAME:CEST
DTSTART:20190331T010000
END:DAYLIGHT
BEGIN:STANDARD
TZOFFSETFROM:+0200
TZOFFSETTO:+0100
TZNAME:CET
DTSTART:20191027T010000
END:STANDARD
END:VTIMEZONE
BEGIN:VEVENT
DTSTART;TZID=Europe/Madrid:20190623T100000
DTEND;TZID=Europe/Madrid:20190623T160000
DTSTAMP:20260420T145357
CREATED:20190515T094505Z
LAST-MODIFIED:20190604T095127Z
UID:10002091-1561284000-1561305600@cerai.org
SUMMARY:Asamblea socias y socios CERAI
DESCRIPTION:De acuerdo con el artículo 13 de los Estatutos\, se convoca Asamblea General Ordinaria de la entidad el domingo 23 de junio\, en Culla (Castellón)\, concretamente en la masía Aldea Roqueta. Coincidiendo con la celebración de la asamblea\, desde CERAI queremos celebrar un acto en homenaje a los recientemente fallecidos Ignacio Errando\, presidente de CERAI de 2018 a 2019\, y Jorge Hernández Esteruelas\, presidente de CERAI en el período 2008-2010. \nPROGRAMA PREVISTO: \n9.30 h. 1ª convocatoria | 10.00 h. 2ª convocatoria. Constitución mesa de asamblea \n10-13h: Celebración de la Asamblea de socias y socios de CERAI. \n13h. Acto de homenaje a Ignacio Errando y Jorge Hernández Esteruelas. \n14h. – Comida y sobremesa con música\, compañía y alegría. \nEn el siguiente apartado de la web de CERAI se facilita el Orden del Día de la Asamblea y los documentos necesarios para participar en ella: \nMÁS INFORMACIÓN SOBRE LA ASAMBLEA 2019 \nOs invitamos a reservar esta fecha en vuestra agenda y a participar en el encuentro.
URL:https://cerai.org/evento/asamblea-socias-y-socios-cerai/
LOCATION:Aldea Roqueta (Culla)\, Castellón
CATEGORIES:ASAMBLEA
ATTACH;FMTTYPE=image/png:https://cerai.org/wordpress/wp-content/uploads/2019/06/Convocatoria-Asamblea-de-socias-y-socios-de-CERAI-2019.png
END:VEVENT
BEGIN:VEVENT
DTSTART;TZID=Europe/Madrid:20190623T100000
DTEND;TZID=Europe/Madrid:20190623T160000
DTSTAMP:20260420T145357
CREATED:20190515T094505Z
LAST-MODIFIED:20190515T094505Z
UID:10002092-1561284000-1561305600@cerai.org
SUMMARY:Asamblea socias y socios CERAI
DESCRIPTION:De acuerdo con el artículo 13 de los Estatutos\, se convoca Asamblea General Ordinaria de la entidad el domingo 23 de junio\, en Culla (Castellón)\, concretamente en la masía Aldea Roqueta. Coincidiendo con la celebración de la asamblea\, desde CERAI queremos celebrar un acto en homenaje a los recientemente fallecidos Ignacio Errando\, presidente de CERAI de 2018 a 2019\, y Jorge Hernández Esteruelas\, presidente de CERAI en el período 2008-2010. \nPROGRAMA PREVISTO: \n9.30 h. 1ª convocatoria | 10.00 h. 2ª convocatoria. Constitución mesa de asamblea \n10-13h: Celebración de la Asamblea de socias y socios de CERAI. \n13h. Acto de homenaje a Ignacio Errando y Jorge Hernández Esteruelas. \n14h. – Comida y sobremesa con música\, compañía y alegría. \nEn el siguiente apartado de la web de CERAI se facilita el Orden del Día de la Asamblea y los documentos necesarios para participar en ella: \nMÁS INFORMACIÓN SOBRE LA ASAMBLEA 2019 \nOs invitamos a reservar esta fecha en vuestra agenda y a participar en el encuentro.
URL:https://cerai.org/evento/asamblea-socias-y-socios-cerai-2/
LOCATION:Aldea Roqueta (Culla)\, Castellón
CATEGORIES:ASAMBLEA
ATTACH;FMTTYPE=image/png:https://cerai.org/wordpress/wp-content/uploads/2019/06/Convocatoria-Asamblea-de-socias-y-socios-de-CERAI-2019.png
END:VEVENT
END:VCALENDAR