BEGIN:VCALENDAR
VERSION:2.0
PRODID:-//CERAI - ECPv6.3.6//NONSGML v1.0//EN
CALSCALE:GREGORIAN
METHOD:PUBLISH
X-WR-CALNAME:CERAI
X-ORIGINAL-URL:https://cerai.org
X-WR-CALDESC:Eventos para CERAI
REFRESH-INTERVAL;VALUE=DURATION:PT1H
X-Robots-Tag:noindex
X-PUBLISHED-TTL:PT1H
BEGIN:VTIMEZONE
TZID:Europe/Madrid
BEGIN:DAYLIGHT
TZOFFSETFROM:+0100
TZOFFSETTO:+0200
TZNAME:CEST
DTSTART:20250330T010000
END:DAYLIGHT
BEGIN:STANDARD
TZOFFSETFROM:+0200
TZOFFSETTO:+0100
TZNAME:CET
DTSTART:20251026T010000
END:STANDARD
END:VTIMEZONE
BEGIN:VEVENT
DTSTART;TZID=Europe/Madrid:20251024T100000
DTEND;TZID=Europe/Madrid:20251026T170000
DTSTAMP:20260421T183304
CREATED:20250929T112009Z
LAST-MODIFIED:20251030T123028Z
UID:10002436-1761300000-1761498000@cerai.org
SUMMARY:12a Fira de la Biodiversitat Cultivada
DESCRIPTION:Un año más\, el Centro de Estudios Rurales y de agricultura Internacional (CERA) colabora en la organización de la Fira de la Biodiversitat Cultivada del País Valencià que impulsa Llavors d’Ací. Será los días 24\, 25 y 26 de octubre en Betxí (Castelló). Gracias los proyectos Una llavor a l’escola\, Fomentant xarxes per assolir uns menjadors escolars sostenibles (fase II) y Horta-Cuina. \nA lo largo de todo su recorrido\, la Fira de la Biodiversitat Cultivada ha sido un acontecimiento referente para tejer red entre todas las personas\, entidades\, productoras y profesionales que hacen posible mantener la biodiversidad agraria en nuestro territorio. El intercambio de experiencias\, el aprendizaje y varias actividades que se programan año tras año pretenden expandir el reconocimiento que merecen nuestras semillas y que cada vuelta seamos más las personas conscientes para protegerlas y\, por tanto\, protegernos. \nAlgunas de las actividades requieren inscripción. Todas las personas interesadas pueden acceder a toda la información aquí. \nY además\, todas las personas con interés en echar una mano y hacer voluntariado\, puedes enviar un correo a llavorsd@llavorsdaci.org.
URL:https://cerai.org/evento/12a-fira-de-la-biodiversitat-cultivada/
LOCATION:Betxí
ATTACH;FMTTYPE=image/jpeg:https://cerai.org/wordpress/wp-content/uploads/2025/09/12-Fira-Biodiversidad_Cartel-A3-1097x1536-1.jpg
END:VEVENT
END:VCALENDAR