BEGIN:VCALENDAR
VERSION:2.0
PRODID:-//CERAI - ECPv6.3.6//NONSGML v1.0//EN
CALSCALE:GREGORIAN
METHOD:PUBLISH
X-WR-CALNAME:CERAI
X-ORIGINAL-URL:https://cerai.org
X-WR-CALDESC:Eventos para CERAI
REFRESH-INTERVAL;VALUE=DURATION:PT1H
X-Robots-Tag:noindex
X-PUBLISHED-TTL:PT1H
BEGIN:VTIMEZONE
TZID:Europe/Madrid
BEGIN:DAYLIGHT
TZOFFSETFROM:+0100
TZOFFSETTO:+0200
TZNAME:CEST
DTSTART:20250330T010000
END:DAYLIGHT
BEGIN:STANDARD
TZOFFSETFROM:+0200
TZOFFSETTO:+0100
TZNAME:CET
DTSTART:20251026T010000
END:STANDARD
END:VTIMEZONE
BEGIN:VEVENT
DTSTART;TZID=Europe/Madrid:20251029T170000
DTEND;TZID=Europe/Madrid:20251126T190000
DTSTAMP:20260421T204952
CREATED:20250915T122845Z
LAST-MODIFIED:20250915T122845Z
UID:10002433-1761757200-1764183600@cerai.org
SUMMARY:Formación 'El huerto escolar como herramienta pedagógica inclusiva'
DESCRIPTION:El Centro de Estudios Rurales y de Agricultura Internacional (CERAI) lanza el curso ‘El huerto escolar como herramienta pedagógica inclusiva’. La formación\, que es gratuita\, está dirigida al profesorado de Educación Infantil\, Educación Primaria\, y Educación Secundaria Obligatoria y al profesorado de los ciclos formativos del País Valencià. Este curso se realiza en el marco del proyecto ‘Una Llavor a l’Escola’- Fase V\, financiado por la Vicepresidencia y Consellería de Servicios Sociales\, Igualdad y Vivienda. \nLa formación tiene una duración de 20 horas (10 horas presenciales y 10 horas no presenciales). Las clases se impartirán los miércoles de las 17 a las 19 horas de la tarde en el IES Riu Túria de Quart de Poblet. Será del 29 de octubre al 26 de noviembre de 2025. Las clases no presenciales son de lectura de los materiales aportados por el profesorado del curso y la realización de actividades. \nObjetivos del Curso\n– Dar a conocer el huerto escolar como una herramienta didáctica para trabajar de forma atractiva y divertida\, la alimentación saludable y sostenible.\n– Proporcionar metodologías para cultivar el huerto escolar: asociación de cultivos y sanidad vegetal.\n– Potenciar la biodiversidad en el espacio de los huertos escolares: variedades de cultivos\, de semillas locales o tradicionales\, plantas para atraer fauna útil para el huerto (mariquitas\, crisopas…).\n– Facilitar recursos didácticos para el currículum del huerto escolar: situaciones de aprendizaje basadas en el huerto escolar\, caja de aprendizaje…\n– Difundir herramientas útiles para la transformación del huerto escolar en un espacio inclusivo: diseño del espacio\, materiales adaptados… \nContenidos del Curso\n– El huerto escolar como herramienta pedagógica para trabajar la alimentación saludable y sostenible.\n– Metodologías para cultivar el huerto escolar desde la agroecología.\n– El huerto escolar para el fomento de la biodiversidad.\n– El currículum del huerto escolar y su inclusión en el proyecto educativo del centro.\n– El huerto escolar como espacio inclusivo. \nCurso impartido por Mayte Fornes y Soraya Valiente\, ambas técnicas de Educación para la Ciudadanía Global de CERAI). \nLas personas interesadas\, pueden reservar su plaza a través de este formulario.
URL:https://cerai.org/evento/formacion-el-huerto-escolar-como-herramienta-pedagogica-inclusiva/
LOCATION:IES Riu Túria de Quart de Poblet
CATEGORIES:CURSO
ATTACH;FMTTYPE=image/png:https://cerai.org/wordpress/wp-content/uploads/2025/09/Cartel-Curso-CEFIRE-25-Caste-2-1.png
END:VEVENT
END:VCALENDAR