BEGIN:VCALENDAR
VERSION:2.0
PRODID:-//CERAI - ECPv6.3.6//NONSGML v1.0//EN
CALSCALE:GREGORIAN
METHOD:PUBLISH
X-WR-CALNAME:CERAI
X-ORIGINAL-URL:https://cerai.org
X-WR-CALDESC:Eventos para CERAI
REFRESH-INTERVAL;VALUE=DURATION:PT1H
X-Robots-Tag:noindex
X-PUBLISHED-TTL:PT1H
BEGIN:VTIMEZONE
TZID:Europe/Madrid
BEGIN:DAYLIGHT
TZOFFSETFROM:+0100
TZOFFSETTO:+0200
TZNAME:CEST
DTSTART:20250330T010000
END:DAYLIGHT
BEGIN:STANDARD
TZOFFSETFROM:+0200
TZOFFSETTO:+0100
TZNAME:CET
DTSTART:20251026T010000
END:STANDARD
END:VTIMEZONE
BEGIN:VEVENT
DTSTART;TZID=Europe/Madrid:20250227T000000
DTEND;TZID=Europe/Madrid:20250330T235959
DTSTAMP:20260421T213139
CREATED:20250225T121125Z
LAST-MODIFIED:20250225T121125Z
UID:10002415-1740614400-1743379199@cerai.org
SUMMARY:Exposición 'Raíces' de Héctor Serrano
DESCRIPTION:Tras el devastador paso de la dana del 29 de octubre de 2024\, las playas del sur de Valencia quedaron completamente atestadas de árboles\, troncos\, raíces\, cañas y residuos vegetales que transmitían de manera sobrecogedora la fuerza que llevaba el agua. En algunos casos\, esta los modeló e intervino\, dotándoles de una potencia formal y\, al mismo tiempo\, una delicadeza al tacto excepcionalmente poético. \nHéctor Serrano ha recopilado 85 raíces encontradas en las playas para convertirlas en floreros\, tanto para albergar elementos vegetales como para colocar esquejes que más tarde se trasplanten a tierra. Un florero por cada localidad afectada por la dana\, con los que se recaudará fondos que ayuden a la reconstrucción de la zona y a los damnificados que luchan por recuperar sus raíces. \nSi quieres contribuir adquiriendo un florero\, escribe un email a monica@hectorserrano.com El precio de salida de cada pieza son 100 € + envío\, pero\, si quieres donar más\, nadie tratará de impedírtelo. \nLos fondos irán destinados al Centro de Estudios Rurales y de Agricultura Internacional (CERAI)\, una organización sin ánimo de lucro\, que defiende un mundo rural vivo y recampesinizado. Es una ONGD que plantea su trabajo desde la acción local-internacionalista. Esta trabaja para apoyar sistemas alimentarios y medios rurales sostenibles con el objetivo de asegurar el derecho a la alimentación\, la soberanía alimentaria\, los derechos de las comunidades rurales y la conservación de los ecosistemas. \nLos fondos se destinarán a reconstruir las huertas familiares de la zona de Sot de Chera\, en donde se ha perdido el 80 por ciento de los cultivos tras el paso de la dana y su paseo fluvial ha desaparecido.
URL:https://cerai.org/evento/exposicion-raices-de-hector-serrano/
LOCATION:Matadero de Madrid\, Paseo de la Chopera\, 14\, Madrid\, Madrid\, España
CATEGORIES:EXPOSICIÓN
ATTACH;FMTTYPE=image/jpeg:https://cerai.org/wordpress/wp-content/uploads/2025/02/WhatsApp-Image-2025-02-16-at-1.24.20-PM-1.jpeg
END:VEVENT
END:VCALENDAR