BEGIN:VCALENDAR
VERSION:2.0
PRODID:-//CERAI - ECPv6.3.6//NONSGML v1.0//EN
CALSCALE:GREGORIAN
METHOD:PUBLISH
X-WR-CALNAME:CERAI
X-ORIGINAL-URL:https://cerai.org
X-WR-CALDESC:Eventos para CERAI
REFRESH-INTERVAL;VALUE=DURATION:PT1H
X-Robots-Tag:noindex
X-PUBLISHED-TTL:PT1H
BEGIN:VTIMEZONE
TZID:Europe/Madrid
BEGIN:DAYLIGHT
TZOFFSETFROM:+0100
TZOFFSETTO:+0200
TZNAME:CEST
DTSTART:20230326T010000
END:DAYLIGHT
BEGIN:STANDARD
TZOFFSETFROM:+0200
TZOFFSETTO:+0100
TZNAME:CET
DTSTART:20231029T010000
END:STANDARD
END:VTIMEZONE
BEGIN:VEVENT
DTSTART;TZID=Europe/Madrid:20230620T110000
DTEND;TZID=Europe/Madrid:20230620T133000
DTSTAMP:20260422T122452
CREATED:20230531T133400Z
LAST-MODIFIED:20230605T082335Z
UID:10002357-1687258800-1687267800@cerai.org
SUMMARY:Presentación del libro «Entender para creer» en honor a José Luis Porcuna
DESCRIPTION:El 20 de junio a las 11:00 H participaremos en la presentación del libro Entender para creer. Una vida dedicada a la agroecología\, una publicación dedicada a honrar el legado del Dr. José Luis Porcuna. Será en el Servicio de Sanidad Vegetal de Silla (Valencia). Este evento lo organizan Cooperatives Agro-alimentàries de la Comunitat Valenciana y la Fundación Instituto de Agroecología y Sostenibilidad (FIAES). \nPresentación\nEl 10 de noviembre de 2021 José Luis Porcuna se despidió de nosotros\, pero su legado permanece y desde varias organizaciones\, entidades\, empresas y personas hay un firme compromiso de mantenerlo y acrecentarlo. El libro que hoy se presenta es fruto de ese compromiso; también del agradecimiento al Maestro que nos ha iluminado mientras ha estado a nuestro lado y lo sigue haciendo a través de su obra. Está llamado a ser referencia obligada para quienes se interesen por la Agroecología\, para quienes la descubran\, la practiquen y la divulguen\, en espacios científicos\, empresariales\, públicos y privados. Una obra amplia\, plural y generosa. No podía celebrarse esta presentación en otro espacio que el Servicio de Sanidad Vegetal de Silla\, un centro público en el que todas y todos ubicamos a José Luis\, atendiendo a quienes se acercaban a su despacho en busca de orientación y respuestas. Un espacio libre para el debate\, la reflexión y el crecimiento saludable. El evento será conducido por Gustavo Bueso\, redactor jefe de Phytoma y musicalizado por la pianista Elena Tarín. \nPrograma\n11.00 horas. Apertura de la Jornada \nVicente Dalmau\, jefe de Servicio de Sanidad Vegetal\nEnrique Bellés\, director de Cooperatives Agro-alimentàries de la C.V.\nJosé Moratal\, secretario de FIAES \n11.15 horas. Simple y llanamente\, Agroecología  \nConcha Fabeiro\, profesora titular de la Univ. de Castilla-La Mancha y presidenta de SEAE \n11.50 horas. La semblanza del Maestro José Luis Porcuna  \nPedro Escriche\, vicepresidente de CERAI\nJulio Quilis\, socio fundador de Saifresc\nHelena Cifre\, coordinadora de SEAE \n12.10 horas. Presentación del libro “Entender para creer. Una vida dedicada a la Agroecología”.  \nAna Cano\, técnica de Cooperatives Agro-alimentàries de la C.V. \n12.30 horas. Mesa redonda \nConducida por Gustavo Bueno\, redactor jefe de Phytoma. Participan: \nPaco Girona\, técnico de Cooperatives Agro-alimentàries de la C.V.\nMaite Chafer\, catedrática de la Universitat Politècnica de València\nRaúl Ballester\, agricultor socio de UNIPRO-Perelló\nDavid Torres\, exdirector de CERAI \n13.15 horas. Cierre de la presentación. Entrega del libro a los/as asistentes.  \nJose Moratal\, secretario de FIAES \n13.30 horas. Fin de la presentación \nAforo limitado. Inscripción hasta el 16 de junio a las 14:00 H aquí.
URL:https://cerai.org/evento/presentacion-del-libro-entender-para-creer-en-honor-a-jose-luis-porcuna/
LOCATION:Servicio de Sanidad Vegetal\, Av. Alacant\, s/n\, Silla\, Valencia\, 46460
CATEGORIES:CHARLA
ATTACH;FMTTYPE=image/jpeg:https://cerai.org/wordpress/wp-content/uploads/2023/05/20230529-Presentación-Libro-JL-Porcuna-copia_Página_1-scaled.jpg
END:VEVENT
BEGIN:VEVENT
DTSTART;TZID=Europe/Madrid:20230620T110000
DTEND;TZID=Europe/Madrid:20230620T133000
DTSTAMP:20260422T122452
CREATED:20230531T133400Z
LAST-MODIFIED:20230531T133400Z
UID:10002358-1687258800-1687267800@cerai.org
SUMMARY:Presentación del libro «Entender para creer» en honor a José Luis Porcuna
DESCRIPTION:El 20 de junio a las 11:00 H participaremos en la presentación del libro Entender para creer. Una vida dedicada a la agroecología\, una publicación dedicada a honrar el legado del Dr. José Luis Porcuna. Será en el Servicio de Sanidad Vegetal de Silla (Valencia). Este evento lo organizan Cooperatives Agro-alimentàries de la Comunitat Valenciana y la Fundación Instituto de Agroecología y Sostenibilidad (FIAES). \nPresentación\nEl 10 de noviembre de 2021 José Luis Porcuna se despidió de nosotros\, pero su legado permanece y desde varias organizaciones\, entidades\, empresas y personas hay un firme compromiso de mantenerlo y acrecentarlo. El libro que hoy se presenta es fruto de ese compromiso; también del agradecimiento al Maestro que nos ha iluminado mientras ha estado a nuestro lado y lo sigue haciendo a través de su obra. Está llamado a ser referencia obligada para quienes se interesen por la Agroecología\, para quienes la descubran\, la practiquen y la divulguen\, en espacios científicos\, empresariales\, públicos y privados. Una obra amplia\, plural y generosa. No podía celebrarse esta presentación en otro espacio que el Servicio de Sanidad Vegetal de Silla\, un centro público en el que todas y todos ubicamos a José Luis\, atendiendo a quienes se acercaban a su despacho en busca de orientación y respuestas. Un espacio libre para el debate\, la reflexión y el crecimiento saludable. El evento será conducido por Gustavo Bueso\, redactor jefe de Phytoma y musicalizado por la pianista Elena Tarín. \nPrograma\n11.00 horas. Apertura de la Jornada \nVicente Dalmau\, jefe de Servicio de Sanidad Vegetal\nEnrique Bellés\, director de Cooperatives Agro-alimentàries de la C.V.\nJosé Moratal\, secretario de FIAES \n11.15 horas. Simple y llanamente\, Agroecología  \nConcha Fabeiro\, profesora titular de la Univ. de Castilla-La Mancha y presidenta de SEAE \n11.50 horas. La semblanza del Maestro José Luis Porcuna  \nPedro Escriche\, vicepresidente de CERAI\nJulio Quilis\, socio fundador de Saifresc\nHelena Cifre\, coordinadora de SEAE \n12.10 horas. Presentación del libro “Entender para creer. Una vida dedicada a la Agroecología”.  \nAna Cano\, técnica de Cooperatives Agro-alimentàries de la C.V. \n12.30 horas. Mesa redonda \nConducida por Gustavo Bueno\, redactor jefe de Phytoma. Participan: \nPaco Girona\, técnico de Cooperatives Agro-alimentàries de la C.V.\nMaite Chafer\, catedrática de la Universitat Politècnica de València\nRaúl Ballester\, agricultor socio de UNIPRO-Perelló\nDavid Torres\, exdirector de CERAI \n13.15 horas. Cierre de la presentación. Entrega del libro a los/as asistentes.  \nJose Moratal\, secretario de FIAES \n13.30 horas. Fin de la presentación \nAforo limitado. Inscripción hasta el 16 de junio a las 14:00 H aquí.
URL:https://cerai.org/evento/presentacion-del-libro-entender-para-creer-en-honor-a-jose-luis-porcuna-2/
LOCATION:Servicio de Sanidad Vegetal\, Av. Alacant\, s/n\, Silla\, Valencia\, 46460
CATEGORIES:CHARLA
ATTACH;FMTTYPE=image/jpeg:https://cerai.org/wordpress/wp-content/uploads/2023/05/20230529-Presentación-Libro-JL-Porcuna-copia_Página_1-scaled.jpg
END:VEVENT
END:VCALENDAR