BEGIN:VCALENDAR
VERSION:2.0
PRODID:-//CERAI - ECPv6.3.6//NONSGML v1.0//EN
CALSCALE:GREGORIAN
METHOD:PUBLISH
X-WR-CALNAME:CERAI
X-ORIGINAL-URL:https://cerai.org
X-WR-CALDESC:Eventos para CERAI
REFRESH-INTERVAL;VALUE=DURATION:PT1H
X-Robots-Tag:noindex
X-PUBLISHED-TTL:PT1H
BEGIN:VTIMEZONE
TZID:Europe/Madrid
BEGIN:DAYLIGHT
TZOFFSETFROM:+0100
TZOFFSETTO:+0200
TZNAME:CEST
DTSTART:20190331T010000
END:DAYLIGHT
BEGIN:STANDARD
TZOFFSETFROM:+0200
TZOFFSETTO:+0100
TZNAME:CET
DTSTART:20191027T010000
END:STANDARD
END:VTIMEZONE
BEGIN:VEVENT
DTSTART;TZID=Europe/Madrid:20191130T093000
DTEND;TZID=Europe/Madrid:20191130T183000
DTSTAMP:20260420T151710
CREATED:20191120T133109Z
LAST-MODIFIED:20191120T133229Z
UID:10001735-1575106200-1575138600@cerai.org
SUMMARY:Jornada formativa sobre obradores compartidos
DESCRIPTION:Los obradores compartidos son infraestructuras de carácter local destinadas a la elaboración de alimentos. Se trata de una herramienta de dinamización muy valiosa en la construcción de un sistema alimentario justo y sostenible porque permiten impulsar la economía local favoreciendo el autoempleo\, dando valor añadido a la producción primaria\, dinamizando la actividad agraria y ganadera y produciendo alimentos de gran calidad con productos de proximidad y procesos artesanales. \nEn los últimos 5 años desde la Plataforma per la Soberanía Alimentària del País Valencià se está trabajando para potenciar esta herramienta\, al considerarla clave para la dinamización socioeconómica del territorio y especialmente del medio rural. Se ha trabajado en la adecuación de las normativas higiénico-sanitarias a la realidad de los pequeños proyectos elaboradores y en la publicación de un manual que pretende facilitar la puesta en marcha de obradores compartidos. \nLa jornada formativa\, organizada por el Ayuntamiento de Sot de Chera\, la Plataforma per la Soberanía Alimentària del País Valencià y CERAI\, está subvencionada a través de la Diputación de València y tendrá lugar el 30 de noviembre de 2019 de 9:30 a 18:30. \nImpartirán las sesiones Marta Feliu\, de El Llibrell\, y Jèssica Marzal. \nLugar: Salón de actos del Ayuntamiento de Sot de Chera \nFecha: 30 de noviembre de 2019\, de 9:30 a 18:30h. \nINSCRIPCIONES\nRellena el siguiente formulario de inscripción
URL:https://cerai.org/evento/jornada-formativa-sobre-obradores-compartidos/
LOCATION:Sot de Chera (Valencia)
CATEGORIES:CURSO
ATTACH;FMTTYPE=image/jpeg:https://cerai.org/wordpress/wp-content/uploads/2017/10/slide-obradores-VLC-web-CERAI.jpg
END:VEVENT
BEGIN:VEVENT
DTSTART;TZID=Europe/Madrid:20191130T093000
DTEND;TZID=Europe/Madrid:20191130T183000
DTSTAMP:20260420T151710
CREATED:20191120T133109Z
LAST-MODIFIED:20191120T133109Z
UID:10001737-1575106200-1575138600@cerai.org
SUMMARY:Jornada formativa sobre obradores compartidos
DESCRIPTION:Los obradores compartidos son infraestructuras de carácter local destinadas a la elaboración de alimentos. Se trata de una herramienta de dinamización muy valiosa en la construcción de un sistema alimentario justo y sostenible porque permiten impulsar la economía local favoreciendo el autoempleo\, dando valor añadido a la producción primaria\, dinamizando la actividad agraria y ganadera y produciendo alimentos de gran calidad con productos de proximidad y procesos artesanales. \nEn los últimos 5 años desde la Plataforma per la Soberanía Alimentària del País Valencià se está trabajando para potenciar esta herramienta\, al considerarla clave para la dinamización socioeconómica del territorio y especialmente del medio rural. Se ha trabajado en la adecuación de las normativas higiénico-sanitarias a la realidad de los pequeños proyectos elaboradores y en la publicación de un manual que pretende facilitar la puesta en marcha de obradores compartidos. \nLa jornada formativa\, organizada por el Ayuntamiento de Sot de Chera\, la Plataforma per la Soberanía Alimentària del País Valencià y CERAI\, está subvencionada a través de la Diputación de València y tendrá lugar el 30 de noviembre de 2019 de 9:30 a 18:30. \nImpartirán las sesiones Marta Feliu\, de El Llibrell\, y Jèssica Marzal. \nLugar: Salón de actos del Ayuntamiento de Sot de Chera \nFecha: 30 de noviembre de 2019\, de 9:30 a 18:30h. \nINSCRIPCIONES\nRellena el siguiente formulario de inscripción
URL:https://cerai.org/evento/jornada-formativa-sobre-obradores-compartidos-2/
LOCATION:Sot de Chera (Valencia)
CATEGORIES:CURSO
ATTACH;FMTTYPE=image/jpeg:https://cerai.org/wordpress/wp-content/uploads/2017/10/slide-obradores-VLC-web-CERAI.jpg
END:VEVENT
END:VCALENDAR